BEGIN:VCALENDAR
VERSION:2.0
PRODID:-//Canterra - ECPv6.15.20//NONSGML v1.0//EN
CALSCALE:GREGORIAN
METHOD:PUBLISH
X-WR-CALNAME:Canterra
X-ORIGINAL-URL:https://canterra.co
X-WR-CALDESC:Events for Canterra
REFRESH-INTERVAL;VALUE=DURATION:PT1H
X-Robots-Tag:noindex
X-PUBLISHED-TTL:PT1H
BEGIN:VTIMEZONE
TZID:America/New_York
BEGIN:DAYLIGHT
TZOFFSETFROM:-0500
TZOFFSETTO:-0400
TZNAME:EDT
DTSTART:20240310T070000
END:DAYLIGHT
BEGIN:STANDARD
TZOFFSETFROM:-0400
TZOFFSETTO:-0500
TZNAME:EST
DTSTART:20241103T060000
END:STANDARD
BEGIN:DAYLIGHT
TZOFFSETFROM:-0500
TZOFFSETTO:-0400
TZNAME:EDT
DTSTART:20250309T070000
END:DAYLIGHT
BEGIN:STANDARD
TZOFFSETFROM:-0400
TZOFFSETTO:-0500
TZNAME:EST
DTSTART:20251102T060000
END:STANDARD
BEGIN:DAYLIGHT
TZOFFSETFROM:-0500
TZOFFSETTO:-0400
TZNAME:EDT
DTSTART:20260308T070000
END:DAYLIGHT
BEGIN:STANDARD
TZOFFSETFROM:-0400
TZOFFSETTO:-0500
TZNAME:EST
DTSTART:20261101T060000
END:STANDARD
END:VTIMEZONE
BEGIN:VEVENT
DTSTART;TZID=America/New_York:20250808T183000
DTEND;TZID=America/New_York:20250808T213000
DTSTAMP:20260419T125215
CREATED:20250801T185648Z
LAST-MODIFIED:20250801T185648Z
UID:326298-1754677800-1754688600@canterra.co
SUMMARY:Catan Night
DESCRIPTION:Test your skills in Settlers of Catan\, the ultimate game of resource management and negotiation. Whether you’re a longtime player or brand new\, Catan offers the perfect blend of challenge and excitement. Bring your best strategy—there’s a prize and serious bragging rights on the line for the night’s top competitor. \nNot a Catan fan? No problem. Our team will introduce a variety of fun\, easy-to-learn games you can enjoy with friends or share at your next gathering. Whether you’re into cooperative play\, party games\, or strategy-based challenges\, there’s something for everyone. \nThis event is all about community\, connection\, and rediscovering the joy of real-world interaction. Come solo or with friends—everyone’s welcome.
URL:https://canterra.co/event/catan-night-2/
END:VEVENT
BEGIN:VEVENT
DTSTART;TZID=America/New_York:20250825T183000
DTEND;TZID=America/New_York:20250825T203000
DTSTAMP:20260419T125215
CREATED:20250801T175905Z
LAST-MODIFIED:20250822T172528Z
UID:326279-1756146600-1756153800@canterra.co
SUMMARY:Meditation with Maddie
DESCRIPTION:Monday Meditate – Start Your Week with Intention and Inner Calm \nJoin us on Monday\, August 25 at 6:30 PM for a Monday Meditate—a peaceful\, donation-based meditation session designed to help you reset\, recharge\, and reconnect with yourself. \nWhether you’re coming off a busy weekend or looking for a quiet moment to start your week\, this guided meditation offers a calming space to pause and breathe. No experience is necessary—just come as you are and take time to focus inward. \nLed in a welcoming\, judgment-free environment\, this practice is perfect for adults 25 to 45 who value mindfulness\, balance\, and the benefits of slowing down. It’s especially ideal for those in the cannabis-friendly community seeking a gentle\, grounded experience that pairs well with a relaxed\, intentional lifestyle. \nLet go of stress\, clear mental clutter\, and reconnect with your breath. Come solo or bring a friend—this is your space to unplug\, decompress\, and realign for the week ahead.
URL:https://canterra.co/event/monday-meditation/
END:VEVENT
BEGIN:VEVENT
DTSTART;TZID=America/New_York:20250826T180000
DTEND;TZID=America/New_York:20250826T210000
DTSTAMP:20260419T125215
CREATED:20250801T181604Z
LAST-MODIFIED:20250801T181604Z
UID:326281-1756231200-1756242000@canterra.co
SUMMARY:Cannabis Trivia Night
DESCRIPTION:Join us on Tuesday\, August 26 from 6:00 to 9:00 PM for our very first FREE Trivia Night—an easygoing evening of laughs\, team spirit\, and a little friendly competition. Think you’ve got what it takes to outsmart our staff? Come test your knowledge of cannabis and find out. \nWe’re serving up a wide range of open-ended categories and creative questions designed to spark conversation\, stir up memories\, and keep you guessing. Whether you’re a pop culture buff\, a cannabis connoisseur\, or just love random facts\, there’s something for everyone. \nCome solo\, bring a friend\, or build a team on the spot. We’re keeping things casual\, so no pressure—just a fun night with good people and great energy. And since it’s our first time hosting\, we appreciate your patience as we find our groove. \nEnjoy a relaxed\, cannabis-friendly space where connection and curiosity take the spotlight. Trivia Night is the perfect midweek reset—low-key\, high-energy\, and full of unexpected wins. \nNo entry fee—just show up\, have fun\, and maybe even walk away with bragging rights.
URL:https://canterra.co/event/cannabis-trivia-night/
END:VEVENT
BEGIN:VEVENT
DTSTART;TZID=America/New_York:20250828T180000
DTEND;TZID=America/New_York:20250828T200000
DTSTAMP:20260419T125215
CREATED:20250801T182839Z
LAST-MODIFIED:20250801T182839Z
UID:326284-1756404000-1756411200@canterra.co
SUMMARY:Crumb Coat Cake Tasting
DESCRIPTION:Crumb Coat Cake Tasting – Sweet Treats\, Chill Vibes\, and Good Company \nGet ready to indulge—I’m excited to invite you to a delicious night of cake tasting with Crumb Coat\, featuring handcrafted desserts that are as beautiful as they are irresistible. For just $15 per person\, you’ll sample an exclusive selection of flavors\, including: \n\nLemon Poppy Seed\nCannoli Cake\nStrawberry Shortcake\n\nWhether you’re a dedicated baking enthusiast or someone who just knows how to enjoy a good dessert\, this event is perfect for satisfying your sweet tooth and enjoying a relaxed evening in a cozy\, cannabis-friendly space. \nWe’re pairing these indulgent bites with sounds by DJ Hogan\, setting the mood with chill beats and feel-good energy all night long. It’s more than just a tasting—it’s a full-sensory experience where cake\, community\, and creativity come together. \nI’ll be there sampling every flavor\, and trust me—you won’t want to miss it. \nCome solo or bring your crew. No baking required\, just good vibes\, great music\, and even better cake. \nRSVP HERE: https://www.eventbrite.com/e/cake-party-with-crumb-coat-tickets-1530601954649?utm-campaign=social&utm-content=attendeeshare&utm-medium=discovery&utm-term=listing&utm-source=wsa&aff=ebdsshwebmobile
URL:https://canterra.co/event/crumb-coat-cake-tasting/
END:VEVENT
END:VCALENDAR